BEGIN:VCALENDAR
VERSION:2.0
PRODID:-//Custom Calendar//EN
BEGIN:VEVENT
UID:event-987510866@www.realtyline.us
DTSTART:20260421T140000
DTEND:20260421T151500
SUMMARY:ABoR: MLS Power Hour
LOCATION:Virtual
DESCRIPTION:The pre-market conversation is everywhere right now — and your sellers are going to have questions. Make sure you have the answers.

Join us on Tuesday, April 21 for an MLS Power Hour dedicated to F
END:VEVENT
END:VCALENDAR
