BEGIN:VCALENDAR
VERSION:2.0
PRODID:-//Custom Calendar//EN
BEGIN:VEVENT
UID:event-987510879@www.realtyline.us
DTSTART:20260407T130000
DTEND:20260407T140000
SUMMARY:ABoR: What Makes You Tick? Leveraging Your Natural Wiring for Sustainable Success
LOCATION:ABoR On-Air
DESCRIPTION:Success in real estate isn’t just about working harder — it’s about working in alignment with how you’re wired. In this engaging and practical session, you’ll explore what truly makes you ti
END:VEVENT
END:VCALENDAR
