BEGIN:VCALENDAR
VERSION:2.0
PRODID:-//Custom Calendar//EN
BEGIN:VEVENT
UID:event-987510880@www.realtyline.us
DTSTART:20260408T093000
DTEND:20260408T150000
SUMMARY:ABoR: Unlock MLS/ABoR Boards of Directors Meeting
LOCATION:ABoR On-Air
DESCRIPTION:The Unlock MLS and Austin Boards of Directors meet monthly on Wednesdays beginning at 9:00 a.m. All meetings are available to livestream at UnlockMLS.com/Livestream here.
Meeting agendas and minutes a
END:VEVENT
END:VCALENDAR
