BEGIN:VCALENDAR
VERSION:2.0
PRODID:-//Custom Calendar//EN
BEGIN:VEVENT
UID:event-987510881@www.realtyline.us
DTSTART:20260408T100000
DTEND:20260408T120000
SUMMARY:ABoR: Negotiate Like a Pro
LOCATION:ABoR On-Air
DESCRIPTION:This session will examine the “what”, “how”, and “why” of negotiating with clients, peers, and competitors. Many people and many circumstances are predictable when you focus on the 3 P’s
END:VEVENT
END:VCALENDAR
