BEGIN:VCALENDAR
VERSION:2.0
PRODID:-//Custom Calendar//EN
BEGIN:VEVENT
UID:event-987510882@www.realtyline.us
DTSTART:20260408T140000
DTEND:20260408T150000
SUMMARY:ABoR: CubiCasa Training
LOCATION:ABoR On-AIr
DESCRIPTION:Learn more about CubiCasa, the go-to app used by thousands of real estate professionals every day to create floor plans in only 5 minutes. Greatly improve your listings and listing presentations – F
END:VEVENT
END:VCALENDAR
