BEGIN:VCALENDAR
VERSION:2.0
PRODID:-//Custom Calendar//EN
BEGIN:VEVENT
UID:event-987510883@www.realtyline.us
DTSTART:20260409T090000
DTEND:20260409T130000
SUMMARY:ABoR: Farm and Ranch
LOCATION:ABOR Headquarters, 4800 Spicewood Springs Rd. Austin, TX 78759
DESCRIPTION:In this 4-hour Farm and Ranch course, the student will gain a working level of professional, working knowledge of the most current real estate brokerage practices in the Farm and Ranch segment of the 
END:VEVENT
END:VCALENDAR
