BEGIN:VCALENDAR
VERSION:2.0
PRODID:-//Custom Calendar//EN
BEGIN:VEVENT
UID:event-987510884@www.realtyline.us
DTSTART:20260409T100000
DTEND:20260409T120000
SUMMARY:ABoR: Fair Housing: Here's Where We Are
LOCATION:ABoR On-Air
DESCRIPTION:This course is an in-depth look at the Federal Fair Housing Act as its provisions pertain to the real estate professional. Whether engaged in listing, sales, leasing, or property management, the cours
END:VEVENT
END:VCALENDAR
