BEGIN:VCALENDAR
VERSION:2.0
PRODID:-//Custom Calendar//EN
BEGIN:VEVENT
UID:event-987510885@www.realtyline.us
DTSTART:20260410T090000
DTEND:20260410T120000
SUMMARY:ABoR: You Mean Real Estate Contracts Must Be Written?
LOCATION:ABoR On-Air
DESCRIPTION:The objective of this course is to instruct real estate agents in the fundamentals of real estate contracts and addenda. This course covers the fundamentals of real estate contracts and addenda, those
END:VEVENT
END:VCALENDAR
