BEGIN:VCALENDAR
VERSION:2.0
PRODID:-//Custom Calendar//EN
BEGIN:VEVENT
UID:event-987510887@www.realtyline.us
DTSTART:20260414T090000
DTEND:20260414T160000
SUMMARY:ABoR: Broker Responsibility
LOCATION:ABoR On-Air
DESCRIPTION:FREE to ABoR members. Brokers who sponsor salespersons and any licensees (either brokers or salespersons) who are authorized by brokers to supervise other licensees are required to attend a six-hou
END:VEVENT
END:VCALENDAR
