BEGIN:VCALENDAR
VERSION:2.0
PRODID:-//Custom Calendar//EN
BEGIN:VEVENT
UID:event-987510888@www.realtyline.us
DTSTART:20260414T100000
DTEND:20260414T120000
SUMMARY:ABoR: Remine 101
LOCATION:ABoR On-Air
DESCRIPTION:On the surface, Remine Pro may appear to be just one more MLS product to keep track of. However, Remine Pro is chock-full of cutting-edge tools, effective mobile connectivity, and seamless design.
END:VEVENT
END:VCALENDAR
