BEGIN:VCALENDAR
VERSION:2.0
PRODID:-//Custom Calendar//EN
BEGIN:VEVENT
UID:event-987510889@www.realtyline.us
DTSTART:20260422T100000
DTEND:20260422T140000
SUMMARY:ABoR: TREC Legal Update I
LOCATION:150 Timber Vly Trl, Hutto, TX 78634, USA
DESCRIPTION:FREE for ABoR members. Did you know that as a license holder you have legal requirements and regulations for engaging in the real estate business? Perhaps you also belong to a trade association connec
END:VEVENT
END:VCALENDAR
