BEGIN:VCALENDAR
VERSION:2.0
PRODID:-//Custom Calendar//EN
BEGIN:VEVENT
UID:event-987510890@www.realtyline.us
DTSTART:20260416T090000
DTEND:20260416T120000
SUMMARY:ABoR: Lease Listing Gold
LOCATION:ABoR On-Air
DESCRIPTION:Quickly Generate Income &amp; Leads through Lease Listings

Leases move fast—and the agents who know how to handle them profit faster. Lease Listing Gold shows you how to turn lease listings into 
END:VEVENT
END:VCALENDAR
