BEGIN:VCALENDAR
VERSION:2.0
PRODID:-//Custom Calendar//EN
BEGIN:VEVENT
UID:event-987510893@www.realtyline.us
DTSTART:20260421T100000
DTEND:20260421T120000
SUMMARY:ABoR: Listing Manager | Adding &amp; Editing Listing
LOCATION:ABoR On-AIr
DESCRIPTION:This comprehensive class is designed to equip MLS subscribers with the knowledge and tools necessary to create and edit Unlock MLS listings. Attendees will learn how to avoid common pitfalls and poten
END:VEVENT
END:VCALENDAR
