BEGIN:VCALENDAR
VERSION:2.0
PRODID:-//Custom Calendar//EN
BEGIN:VEVENT
UID:event-987510894@www.realtyline.us
DTSTART:20260421T130000
DTEND:20260421T150000
SUMMARY:ABoR: Market Data and UnlockStats Lab
LOCATION:ABoR On-AIr
DESCRIPTION:In this informal session, Market Research Advisor Vaike O’Grady, takes a deep dive into the complex data released in the monthly Central Texas Housing Report. This newly designed report offers the 
END:VEVENT
END:VCALENDAR
