BEGIN:VCALENDAR
VERSION:2.0
PRODID:-//Custom Calendar//EN
BEGIN:VEVENT
UID:event-987510895@www.realtyline.us
DTSTART:20260422T090000
DTEND:20260422T120000
SUMMARY:ABoR: Code of Ethics Powered by ABoR
LOCATION:4800 Spicewood Springs Rd, Austin, TX 78759, USA
DESCRIPTION:The Code of Ethics is an NAR-required course that breaks down the Code of Ethics REALTORS® are to abide by while practicing real estate. In this 3-hour course, we cover all 17 articles that i
END:VEVENT
END:VCALENDAR
