BEGIN:VCALENDAR
VERSION:2.0
PRODID:-//Custom Calendar//EN
BEGIN:VEVENT
UID:event-987510896@www.realtyline.us
DTSTART:20260423T100000
DTEND:20260423T110000
SUMMARY:ABoR: Do You Know What You DON'T Know About Leasing
LOCATION:ABoR On-Air
DESCRIPTION:This course covers the common and uncommon misconceptions about residential leasing and what to do when representing a client. Helping client understand the nuances of a residential lease. Agents will
END:VEVENT
END:VCALENDAR
