BEGIN:VCALENDAR
VERSION:2.0
PRODID:-//Custom Calendar//EN
BEGIN:VEVENT
UID:event-987510898@www.realtyline.us
DTSTART:20260428T090000
DTEND:20260428T120000
SUMMARY:ABoR: CMA/Adjustments &amp; Theory
LOCATION:ABoR On-AIr
DESCRIPTION:Agents need to be competent in calculating accurate price comparisons which requires training and practice. The course will provide basic knowledge to complete a Comparative Market Analysis (CMA). The
END:VEVENT
END:VCALENDAR
