BEGIN:VCALENDAR
VERSION:2.0
PRODID:-//Custom Calendar//EN
BEGIN:VEVENT
UID:event-987510900@www.realtyline.us
DTSTART:20260528T090000
DTEND:20260528T120000
SUMMARY:CMA/Adjustments & Theory
DESCRIPTION:Registration: https://www.unlockmls.com/class/cmaadjustments-theory
END:VEVENT
END:VCALENDAR
