BEGIN:VCALENDAR
VERSION:2.0
PRODID:-//Custom Calendar//EN
BEGIN:VEVENT
UID:event-987510902@www.realtyline.us
DTSTART:20260505T083000
DTEND:20260505T170000
SUMMARY:GRI: Business Skills | 4-Day Class
DESCRIPTION:Registration: https://www.unlockmls.com/class/gri-business-skills-4-day-class
END:VEVENT
END:VCALENDAR
