BEGIN:VCALENDAR
VERSION:2.0
PRODID:-//Custom Calendar//EN
BEGIN:VEVENT
UID:event-987510903@www.realtyline.us
DTSTART:20260505T100000
DTEND:20260505T120000
SUMMARY:Are you the Agent, Subagent, Intermediary?
LOCATION:ABoR On-Air
DESCRIPTION:Learn how to Navigate Real Estate Relationship Dynamics: Are you working FOR a Customer or WITH a Client? When does Intermediary come in to play? This course will unravel the Role of Agents, Subagents
END:VEVENT
END:VCALENDAR
