BEGIN:VCALENDAR
VERSION:2.0
PRODID:-//Custom Calendar//EN
BEGIN:VEVENT
UID:event-987510905@www.realtyline.us
DTSTART:20260506T100000
DTEND:20260506T120000
SUMMARY:CMA Manager - Matrix CMA
LOCATION:ABoR On-Air
DESCRIPTION:Accurately pricing properties is a crucial skill for every real estate agent. In this class, you'll discover expert tips and techniques for leveraging Matrix tools to create comprehensive Comparative 
END:VEVENT
END:VCALENDAR
