BEGIN:VCALENDAR
VERSION:2.0
PRODID:-//Custom Calendar//EN
BEGIN:VEVENT
UID:event-987510907@www.realtyline.us
DTSTART:20260508T103000
DTEND:20260508T113000
SUMMARY:Mastering Your MLS - Compliance Tools, Rules, and Application
DESCRIPTION:Registration: https://www.unlockmls.com/class/mastering-your-mls-compliance-tools-rules-and-application
END:VEVENT
END:VCALENDAR
