BEGIN:VCALENDAR
VERSION:2.0
PRODID:-//Custom Calendar//EN
BEGIN:VEVENT
UID:event-987510909@www.realtyline.us
DTSTART:20260513T100000
DTEND:20260513T113000
SUMMARY:MLS Workshop: Smart Farming - Data-Driven Strategies with RPR & Remine
DESCRIPTION:Registration: https://www.unlockmls.com/class/mls-workshop-smart-farming-data-driven-strategies-with-rpr-remine
END:VEVENT
END:VCALENDAR
