BEGIN:VCALENDAR
VERSION:2.0
PRODID:-//Custom Calendar//EN
BEGIN:VEVENT
UID:event-987510910@www.realtyline.us
DTSTART:20260513T140000
DTEND:20260513T150000
SUMMARY:CubiCasa Training
DESCRIPTION:Registration: https://www.unlockmls.com/class/cubicasa-training
END:VEVENT
END:VCALENDAR
