BEGIN:VCALENDAR
VERSION:2.0
PRODID:-//Custom Calendar//EN
BEGIN:VEVENT
UID:event-987510914@www.realtyline.us
DTSTART:20260519T083000
DTEND:20260519T170000
SUMMARY:ABR: Accredited Buyer Representative | 2-Day Class
DESCRIPTION:Registration: https://www.unlockmls.com/class/abr-accredited-buyer-representative-2-day-class
END:VEVENT
END:VCALENDAR
