BEGIN:VCALENDAR
VERSION:2.0
PRODID:-//Custom Calendar//EN
BEGIN:VEVENT
UID:event-987510915@www.realtyline.us
DTSTART:20260520T130000
DTEND:20260520T160000
SUMMARY:Code of Ethics Powered by ABoR
DESCRIPTION:Registration: https://www.unlockmls.com/class/code-of-ethics-powered-by-abor
END:VEVENT
END:VCALENDAR
