BEGIN:VCALENDAR
VERSION:2.0
PRODID:-//Custom Calendar//EN
BEGIN:VEVENT
UID:event-987510916@www.realtyline.us
DTSTART:20260521T090000
DTEND:20260521T120000
SUMMARY:Do You Know Your 1-4 Contract Addendums?
LOCATION:ABoR On-Air
DESCRIPTION:This course will instruct real estate agents on the proper use of residential contract addendums, how to explain the meaning of form to the client and why the addendum is a legally binding document wh
END:VEVENT
END:VCALENDAR
