BEGIN:VCALENDAR
VERSION:2.0
PRODID:-//Custom Calendar//EN
BEGIN:VEVENT
UID:event-987510917@www.realtyline.us
DTSTART:20260521T100000
DTEND:20260521T120000
SUMMARY:MLS Open Lab
LOCATION:ABoR On-Air
DESCRIPTION:Your Unlock MLS Subscription provides you access to an abundance of amazing MLS products such as Matrix, Remine, and Transaction Desk. Need some hands-on help navigating these tools? Join us for this 
END:VEVENT
END:VCALENDAR
