BEGIN:VCALENDAR
VERSION:2.0
PRODID:-//Custom Calendar//EN
BEGIN:VEVENT
UID:event-987510919@www.realtyline.us
DTSTART:20260528T090000
DTEND:20260528T120000
SUMMARY:Pool Crack or Concrete Cancer?
DESCRIPTION:Registration: https://www.unlockmls.com/class/pool-crack-or-concrete-cancer
END:VEVENT
END:VCALENDAR
