BEGIN:VCALENDAR
VERSION:2.0
PRODID:-//Custom Calendar//EN
BEGIN:VEVENT
UID:event-987510924@www.realtyline.us
DTSTART:20260602T090000
DTEND:20260602T120000
SUMMARY:Introduction to Matrix
LOCATION:ABoR On-Air
DESCRIPTION:Introduction to Matrix provides a platform of the basic knowledge needed to preform essential REALTOR® functions in the MLS. This class is designed to enhance your knowledge in the categories of sear
END:VEVENT
END:VCALENDAR
