BEGIN:VCALENDAR
VERSION:2.0
PRODID:-//Custom Calendar//EN
BEGIN:VEVENT
UID:event-987510925@www.realtyline.us
DTSTART:20260604T090000
DTEND:20260604T120000
SUMMARY:Bias Override: Overcoming Barriers to Fair Housing
LOCATION:ABoR On-Air
DESCRIPTION:This course is designed to help real estate professionals gain a better understanding of Fair Housing barriers in the marketplace. The course focuses on increasing comfort levels of agents when naviga
END:VEVENT
END:VCALENDAR
