BEGIN:VCALENDAR
VERSION:2.0
PRODID:-//Custom Calendar//EN
BEGIN:VEVENT
UID:event-987510929@www.realtyline.us
DTSTART:20260609T083000
DTEND:20260609T170000
SUMMARY:CIPS: Africa and International Real Estate
LOCATION:Address
DESCRIPTION:This course will help elevate your knowledge, skills, and understanding of the real estate industry in Africa. You will learn about the geography, demographics, government, economy, and real estate se
END:VEVENT
END:VCALENDAR
