BEGIN:VCALENDAR
VERSION:2.0
PRODID:-//Custom Calendar//EN
BEGIN:VEVENT
UID:event-987510930@www.realtyline.us
DTSTART:20260609T090000
DTEND:20260609T120000
SUMMARY:Things to Know When Buying and Selling Condominiums
LOCATION:ABoR On-Air
DESCRIPTION:This course is proprietary to the instructor(s) listed below and cannot be scheduled without their approval. | This course covers the Condominium contract and addenda. The questions and agent should a
END:VEVENT
END:VCALENDAR
