BEGIN:VCALENDAR
VERSION:2.0
PRODID:-//Custom Calendar//EN
BEGIN:VEVENT
UID:event-987510932@www.realtyline.us
DTSTART:20260610T100000
DTEND:20260610T113000
SUMMARY:MLS Workshop: Data Made Simple - Creating Reports Clients Actually Understand
DESCRIPTION:Registration: https://www.unlockmls.com/class/mls-workshop-data-made-simple-creating-reports-clients-actually-understand
END:VEVENT
END:VCALENDAR
