BEGIN:VCALENDAR
VERSION:2.0
PRODID:-//Custom Calendar//EN
BEGIN:VEVENT
UID:event-987510935@www.realtyline.us
DTSTART:20260611T100000
DTEND:20260611T110000
SUMMARY:1031 Like-Kind Exchanges
LOCATION:ABoR On-Air
DESCRIPTION:This course covers the basics of a 1031 exchange: | Defining like-kind, exchange eligible property | Understanding the different types of 1031 exchanges

Format: Online
Course Number: TREC #02591-RECE
END:VEVENT
END:VCALENDAR
