BEGIN:VCALENDAR
VERSION:2.0
PRODID:-//Custom Calendar//EN
BEGIN:VEVENT
UID:event-987510938@www.realtyline.us
DTSTART:20260616T083000
DTEND:20260616T170000
SUMMARY:SRS: Seller Representative Specialist | 2-Day Class
DESCRIPTION:Registration: https://www.unlockmls.com/class/srs-seller-representative-specialist-2-day-class
END:VEVENT
END:VCALENDAR
