BEGIN:VCALENDAR
VERSION:2.0
PRODID:-//Custom Calendar//EN
BEGIN:VEVENT
UID:event-987510942@www.realtyline.us
DTSTART:20260623T090000
DTEND:20260623T120000
SUMMARY:Code of Ethics Powered by ABoR
DESCRIPTION:Registration: https://www.unlockmls.com/class/code-of-ethics-powered-by-abor
END:VEVENT
END:VCALENDAR
