BEGIN:VCALENDAR
VERSION:2.0
PRODID:-//Custom Calendar//EN
BEGIN:VEVENT
UID:event-987510943@www.realtyline.us
DTSTART:20260625T090000
DTEND:20260625T120000
SUMMARY:Texas: New Laws and Contract Updates
LOCATION:ABoR On-Air
DESCRIPTION:The 89th Texas Legislature addressed several important issues affecting real estate statewide. Related legislation has been signed into law, including SB 2349 (effective Sept, 1, 2025) and SB 1968 (ef
END:VEVENT
END:VCALENDAR
