BEGIN:VCALENDAR
VERSION:2.0
PRODID:-//Custom Calendar//EN
BEGIN:VEVENT
UID:event-987510965@www.realtyline.us
DTSTART:20261110T083000
DTEND:20261110T170000
SUMMARY:GRI: Real Estate Brokerage | 4-Day Class
DESCRIPTION:Registration: https://www.unlockmls.com/class/gri-real-estate-brokerage-4-day-class
END:VEVENT
END:VCALENDAR
