BEGIN:VCALENDAR
VERSION:2.0
PRODID:-//Custom Calendar//EN
BEGIN:VEVENT
UID:event-987510969@www.realtyline.us
DTSTART:20261112T100000
DTEND:20261112T120000
SUMMARY:How Big is the House; Understanding Square Footage
LOCATION:ABoR On-Air
DESCRIPTION:When marketing a house, the consumers and license holders want to provide the best information possible. There are several methods to calculate square footage. If there is a guest house, how is that a
END:VEVENT
END:VCALENDAR
