BEGIN:VCALENDAR
VERSION:2.0
PRODID:-//Custom Calendar//EN
BEGIN:VEVENT
UID:event-987510974@www.realtyline.us
DTSTART:20261120T100000
DTEND:20261120T110000
SUMMARY:Do You Know What You DON'T Know About Leasing
LOCATION:ABoR On-Air
DESCRIPTION:This course covers the common and uncommon misconceptions about residential leasing and what to do when representing a client. Helping client understand the nuances of a residential lease. Agents will
END:VEVENT
END:VCALENDAR
