BEGIN:VCALENDAR
VERSION:2.0
PRODID:-//Custom Calendar//EN
BEGIN:VEVENT
UID:event-987510992@www.realtyline.us
DTSTART:20260625T090000
DTEND:20260625T130000
SUMMARY:Water Rights for Texas Agents: The Basics
LOCATION:Address
DESCRIPTION:This four-hour course is designed to give the real estate licensee an overview of water rights in a 21st century Texas which faces droughts, floods, and freshwater crises. Not only will the course tea
END:VEVENT
END:VCALENDAR
