BEGIN:VCALENDAR
VERSION:2.0
PRODID:-//Custom Calendar//EN
BEGIN:VEVENT
UID:event-987510995@www.realtyline.us
DTSTART:20260707T100000
DTEND:20260707T120000
SUMMARY:The Joy and Pain of Solar Panels
LOCATION:Address
DESCRIPTION:This course is an overview of Solar Panels and how they affect residential real estate. The course will cover how they are acquired (purchased or leased), how they work, maintenance and upkeep, warran
END:VEVENT
END:VCALENDAR
