BEGIN:VCALENDAR
VERSION:2.0
PRODID:-//Custom Calendar//EN
BEGIN:VEVENT
UID:event-987510996@www.realtyline.us
DTSTART:20260707T100000
DTEND:20260707T120000
SUMMARY:Disclosure: What You Can & Can't Say
DESCRIPTION:Registration: https://www.unlockmls.com/class/disclosure-what-you-can-cant-say
END:VEVENT
END:VCALENDAR
