BEGIN:VCALENDAR
VERSION:2.0
PRODID:-//Custom Calendar//EN
BEGIN:VEVENT
UID:event-987510997@www.realtyline.us
DTSTART:20260708T083000
DTEND:20260708T170000
SUMMARY:New-Home Construction and Buyer Representation
LOCATION:ABoR On-Air
DESCRIPTION:This class serves as an introduction to the new homes sales market for real estate sales agents. The class consists of three modules to address what a buyer’s representative needs to know in order t
END:VEVENT
END:VCALENDAR
