BEGIN:VCALENDAR
VERSION:2.0
PRODID:-//Custom Calendar//EN
BEGIN:VEVENT
UID:event-987511002@www.realtyline.us
DTSTART:20260714T090000
DTEND:20260714T120000
SUMMARY:Get the Listing, Close the Deal
LOCATION:ABoR On-Air
DESCRIPTION:This course will equip students with the skills and knowledge to reach potential sellers. Weâ€™ll talk about different types of listings. The course will cover what do at a listing appointment and weâ
END:VEVENT
END:VCALENDAR
