BEGIN:VCALENDAR
VERSION:2.0
PRODID:-//Custom Calendar//EN
BEGIN:VEVENT
UID:event-987511005@www.realtyline.us
DTSTART:20260721T083000
DTEND:20260721T170000
SUMMARY:GRI: Real Estate Brokerage | 4-Day Class
LOCATION:ABoR On-Air
DESCRIPTION:The topics include professional standards, policies and procedures, brokerage and agency relationships, and business development. | The Texas-specific GRI® designation is obtained by attending an int
END:VEVENT
END:VCALENDAR
