BEGIN:VCALENDAR
VERSION:2.0
PRODID:-//Custom Calendar//EN
BEGIN:VEVENT
UID:event-987511006@www.realtyline.us
DTSTART:20260721T090000
DTEND:20260721T120000
SUMMARY:Know the 1-4 Family Contract and Avoid Issues
LOCATION:Address
DESCRIPTION:This course covers the history and structure of TREC, explains important sections of TRELA and the violations and potential disciplinary actions. The differences between each of the six contracts are 
END:VEVENT
END:VCALENDAR
