BEGIN:VCALENDAR
VERSION:2.0
PRODID:-//Custom Calendar//EN
BEGIN:VEVENT
UID:event-987511008@www.realtyline.us
DTSTART:20260723T100000
DTEND:20260723T120000
SUMMARY:RPR: REALTORS Property Resource
DESCRIPTION:Registration: https://www.unlockmls.com/class/rpr-realtors-property-resource
END:VEVENT
END:VCALENDAR
