BEGIN:VCALENDAR
VERSION:2.0
PRODID:-//Custom Calendar//EN
BEGIN:VEVENT
UID:event-987511012@www.realtyline.us
DTSTART:20260805T090000
DTEND:20260805T120000
SUMMARY:Mastering Buyer Representation
LOCATION:ABoR On-Air
DESCRIPTION:This course focuses specifically on the skills and expertise needed to be a successful Buyer’s Agent. Major aspects of buyer representation will be covered including prospecting, identifying propert
END:VEVENT
END:VCALENDAR
